Package: GenomeInfoDb Version: 1.42.3 Command: /home/biocbuild/bbs-3.20-bioc/R/bin/R CMD check --install=check:GenomeInfoDb.install-out.txt --library=/home/biocbuild/bbs-3.20-bioc/R/site-library --timings GenomeInfoDb_1.42.3.tar.gz StartedAt: 2025-02-03 22:39:49 -0500 (Mon, 03 Feb 2025) EndedAt: 2025-02-03 22:50:51 -0500 (Mon, 03 Feb 2025) EllapsedTime: 662.7 seconds RetCode: 0 Status: OK CheckDir: GenomeInfoDb.Rcheck Warnings: 0