Package: GenomeInfoDb Version: 1.42.3 Command: chmod a+r GenomeInfoDb -R && F:\biocbuild\bbs-3.20-bioc\R\bin\R.exe CMD build --keep-empty-dirs --no-resave-data GenomeInfoDb StartedAt: 2025-02-03 19:23:26 -0500 (Mon, 03 Feb 2025) EndedAt: 2025-02-03 19:24:33 -0500 (Mon, 03 Feb 2025) EllapsedTime: 67.3 seconds RetCode: 0 Status: OK PackageFile: GenomeInfoDb_1.42.3.tar.gz PackageFileSize: 3.42 MiB