Package: GenomicAlignments Version: 1.42.0 Command: /Library/Frameworks/R.framework/Resources/bin/R CMD INSTALL GenomicAlignments StartedAt: 2025-02-03 15:45:06 -0500 (Mon, 03 Feb 2025) EndedAt: 2025-02-03 15:45:47 -0500 (Mon, 03 Feb 2025) EllapsedTime: 40.5 seconds RetCode: 0 Status: OK