Package: GenomicAlignments Version: 1.42.0 Command: /home/biocbuild/bbs-3.20-bioc/R/bin/R CMD build --keep-empty-dirs --no-resave-data --md5 GenomicAlignments StartedAt: 2025-02-03 17:32:49 -0500 (Mon, 03 Feb 2025) EndedAt: 2025-02-03 17:34:21 -0500 (Mon, 03 Feb 2025) EllapsedTime: 92.1 seconds RetCode: 0 Status: OK PackageFile: GenomicAlignments_1.42.0.tar.gz PackageFileSize: 2.168 MiB