Package: GenomicAlignments Version: 1.42.0 Command: rm -rf GenomicAlignments.buildbin-libdir && mkdir GenomicAlignments.buildbin-libdir && F:\biocbuild\bbs-3.20-bioc\R\bin\R.exe CMD INSTALL --build --library=GenomicAlignments.buildbin-libdir GenomicAlignments_1.42.0.tar.gz StartedAt: 2025-02-04 08:34:29 -0500 (Tue, 04 Feb 2025) EndedAt: 2025-02-04 08:37:45 -0500 (Tue, 04 Feb 2025) EllapsedTime: 196.3 seconds RetCode: 0 Status: OK PackageFile: GenomicAlignments_1.42.0.zip PackageFileSize: 2.275 MiB