Package: GenomicAlignments Version: 1.42.0 Command: /home/biocbuild/R/R/bin/R CMD INSTALL GenomicAlignments StartedAt: 2025-02-03 20:37:11 -0000 (Mon, 03 Feb 2025) EndedAt: 2025-02-03 20:37:58 -0000 (Mon, 03 Feb 2025) EllapsedTime: 47.4 seconds RetCode: 0 Status: OK