Package: GenomicDataCommons Version: 1.30.0 Command: /Library/Frameworks/R.framework/Resources/bin/R CMD build --keep-empty-dirs --no-resave-data GenomicDataCommons StartedAt: 2025-02-04 00:11:03 -0500 (Tue, 04 Feb 2025) EndedAt: 2025-02-04 00:12:27 -0500 (Tue, 04 Feb 2025) EllapsedTime: 84.1 seconds RetCode: 0 Status: OK PackageFile: GenomicDataCommons_1.30.0.tar.gz PackageFileSize: 2.368 MiB