Package: GenomicDataCommons Version: 1.30.1 Command: /Library/Frameworks/R.framework/Resources/bin/R CMD INSTALL GenomicDataCommons StartedAt: 2025-02-10 15:21:41 -0500 (Mon, 10 Feb 2025) EndedAt: 2025-02-10 15:21:55 -0500 (Mon, 10 Feb 2025) EllapsedTime: 13.6 seconds RetCode: 0 Status: OK