Package: GenomicDataCommons Version: 1.30.1 Command: rm -rf GenomicDataCommons.buildbin-libdir && mkdir GenomicDataCommons.buildbin-libdir && /Users/biocbuild/BBS/utils/build-universal.sh GenomicDataCommons_1.30.1.tar.gz /Library/Frameworks/R.framework/Resources/bin/R GenomicDataCommons.buildbin-libdir StartedAt: 2025-02-11 13:19:44 -0500 (Tue, 11 Feb 2025) EndedAt: 2025-02-11 13:20:23 -0500 (Tue, 11 Feb 2025) EllapsedTime: 38.6 seconds RetCode: 0 Status: OK PackageFile: GenomicDataCommons_1.30.1.tgz PackageFileSize: 2.001 MiB