Package: GenomicDataCommons Version: 1.30.0 Command: /Library/Frameworks/R.framework/Resources/bin/R CMD build --keep-empty-dirs --no-resave-data GenomicDataCommons StartedAt: 2025-02-03 19:09:33 -0500 (Mon, 03 Feb 2025) EndedAt: 2025-02-03 19:11:44 -0500 (Mon, 03 Feb 2025) EllapsedTime: 131.3 seconds RetCode: 0 Status: OK PackageFile: GenomicDataCommons_1.30.0.tar.gz PackageFileSize: 2.368 MiB