Package: GenomicDistributions Version: 1.14.0 Command: rm -rf GenomicDistributions.buildbin-libdir && mkdir GenomicDistributions.buildbin-libdir && /Users/biocbuild/BBS/utils/build-universal.sh GenomicDistributions_1.14.0.tar.gz /Library/Frameworks/R.framework/Resources/bin/R GenomicDistributions.buildbin-libdir StartedAt: 2025-02-05 15:59:52 -0500 (Wed, 05 Feb 2025) EndedAt: 2025-02-05 16:00:14 -0500 (Wed, 05 Feb 2025) EllapsedTime: 21.5 seconds RetCode: 0 Status: OK PackageFile: GenomicDistributions_1.14.0.tgz PackageFileSize: 5.734 MiB