Package: GenomicDistributions Version: 1.14.0 Command: rm -rf GenomicDistributions.buildbin-libdir && mkdir GenomicDistributions.buildbin-libdir && /Users/biocbuild/BBS/utils/build-universal.sh GenomicDistributions_1.14.0.tar.gz /Library/Frameworks/R.framework/Resources/bin/R GenomicDistributions.buildbin-libdir StartedAt: 2025-02-04 13:01:15 -0500 (Tue, 04 Feb 2025) EndedAt: 2025-02-04 13:02:06 -0500 (Tue, 04 Feb 2025) EllapsedTime: 51.1 seconds RetCode: 0 Status: OK PackageFile: GenomicDistributions_1.14.0.tgz PackageFileSize: 5.733 MiB