Package: GenomicDistributions Version: 1.14.0 Command: /Library/Frameworks/R.framework/Resources/bin/R CMD build --keep-empty-dirs --no-resave-data GenomicDistributions StartedAt: 2025-02-03 19:09:36 -0500 (Mon, 03 Feb 2025) EndedAt: 2025-02-03 19:12:12 -0500 (Mon, 03 Feb 2025) EllapsedTime: 155.5 seconds RetCode: 0 Status: OK PackageFile: GenomicDistributions_1.14.0.tar.gz PackageFileSize: 5.949 MiB