Package: GenomicDistributions Version: 1.14.0 Command: chmod a+r GenomicDistributions -R && F:\biocbuild\bbs-3.20-bioc\R\bin\R.exe CMD build --keep-empty-dirs --no-resave-data GenomicDistributions StartedAt: 2025-02-03 19:24:02 -0500 (Mon, 03 Feb 2025) EndedAt: 2025-02-03 19:26:04 -0500 (Mon, 03 Feb 2025) EllapsedTime: 121.5 seconds RetCode: 0 Status: OK PackageFile: GenomicDistributions_1.14.0.tar.gz PackageFileSize: 4.978 MiB