Package: GenomicDistributions Version: 1.14.0 Command: F:\biocbuild\bbs-3.20-bioc\R\bin\R.exe CMD check --no-multiarch --install=check:GenomicDistributions.install-out.txt --library=F:\biocbuild\bbs-3.20-bioc\R\library --no-vignettes --timings GenomicDistributions_1.14.0.tar.gz StartedAt: 2025-02-04 02:09:05 -0500 (Tue, 04 Feb 2025) EndedAt: 2025-02-04 02:12:20 -0500 (Tue, 04 Feb 2025) EllapsedTime: 195.9 seconds RetCode: 0 Status: OK CheckDir: GenomicDistributions.Rcheck Warnings: 0