Package: GenomicDistributions Version: 1.14.0 Command: /home/biocbuild/R/R/bin/R CMD build --keep-empty-dirs --no-resave-data GenomicDistributions StartedAt: 2025-02-03 23:49:24 -0000 (Mon, 03 Feb 2025) EndedAt: 2025-02-03 23:50:54 -0000 (Mon, 03 Feb 2025) EllapsedTime: 90.0 seconds RetCode: 0 Status: OK PackageFile: GenomicDistributions_1.14.0.tar.gz PackageFileSize: 5.249 MiB