Package: GenomicDistributions Version: 1.14.0 Command: /home/biocbuild/R/R/bin/R CMD INSTALL GenomicDistributions StartedAt: 2025-02-03 20:33:39 -0000 (Mon, 03 Feb 2025) EndedAt: 2025-02-03 20:33:59 -0000 (Mon, 03 Feb 2025) EllapsedTime: 20.1 seconds RetCode: 0 Status: OK