Package: GenomicFeatures Version: 1.58.0 Command: rm -rf GenomicFeatures.buildbin-libdir && mkdir GenomicFeatures.buildbin-libdir && /Users/biocbuild/BBS/utils/build-universal.sh GenomicFeatures_1.58.0.tar.gz /Library/Frameworks/R.framework/Resources/bin/R GenomicFeatures.buildbin-libdir StartedAt: 2025-02-05 15:59:54 -0500 (Wed, 05 Feb 2025) EndedAt: 2025-02-05 16:00:42 -0500 (Wed, 05 Feb 2025) EllapsedTime: 48.2 seconds RetCode: 0 Status: OK PackageFile: GenomicFeatures_1.58.0.tgz PackageFileSize: 1.358 MiB