Package: GenomicFeatures Version: 1.58.0 Command: rm -rf GenomicFeatures.buildbin-libdir && mkdir GenomicFeatures.buildbin-libdir && /Users/biocbuild/BBS/utils/build-universal.sh GenomicFeatures_1.58.0.tar.gz /Library/Frameworks/R.framework/Resources/bin/R GenomicFeatures.buildbin-libdir StartedAt: 2025-02-04 13:01:15 -0500 (Tue, 04 Feb 2025) EndedAt: 2025-02-04 13:03:07 -0500 (Tue, 04 Feb 2025) EllapsedTime: 112.0 seconds RetCode: 0 Status: OK PackageFile: GenomicFeatures_1.58.0.tgz PackageFileSize: 1.358 MiB