Package: GenomicFeatures Version: 1.58.0 Command: /home/biocbuild/R/R/bin/R CMD INSTALL GenomicFeatures StartedAt: 2025-02-03 20:39:44 -0000 (Mon, 03 Feb 2025) EndedAt: 2025-02-03 20:40:31 -0000 (Mon, 03 Feb 2025) EllapsedTime: 47.1 seconds RetCode: 0 Status: OK