Package: GenomicInteractionNodes Version: 1.10.0 Command: /Library/Frameworks/R.framework/Resources/bin/R CMD build --keep-empty-dirs --no-resave-data GenomicInteractionNodes StartedAt: 2025-02-03 19:10:25 -0500 (Mon, 03 Feb 2025) EndedAt: 2025-02-03 19:14:08 -0500 (Mon, 03 Feb 2025) EllapsedTime: 222.7 seconds RetCode: 0 Status: OK PackageFile: GenomicInteractionNodes_1.10.0.tar.gz PackageFileSize: 248.3 KiB