Package: GenomicInteractionNodes Version: 1.10.0 Command: /Library/Frameworks/R.framework/Resources/bin/R CMD INSTALL GenomicInteractionNodes StartedAt: 2025-02-03 15:41:11 -0500 (Mon, 03 Feb 2025) EndedAt: 2025-02-03 15:42:19 -0500 (Mon, 03 Feb 2025) EllapsedTime: 67.8 seconds RetCode: 0 Status: OK