Package: GenomicInteractionNodes
Version: 1.10.0
Command: /home/biocbuild/bbs-3.20-bioc/R/bin/R CMD check --install=check:GenomicInteractionNodes.install-out.txt --library=/home/biocbuild/bbs-3.20-bioc/R/site-library --timings GenomicInteractionNodes_1.10.0.tar.gz
StartedAt: 2025-02-17 22:23:47 -0500 (Mon, 17 Feb 2025)
EndedAt: 2025-02-17 22:30:58 -0500 (Mon, 17 Feb 2025)
EllapsedTime: 430.4 seconds
RetCode: 0
Status: OK
CheckDir: GenomicInteractionNodes.Rcheck
Warnings: 0