Package: GenomicInteractions
Version: 1.40.0
Command: /Library/Frameworks/R.framework/Resources/bin/R CMD check --install=check:GenomicInteractions.install-out.txt --library=/Library/Frameworks/R.framework/Resources/library --no-vignettes --timings GenomicInteractions_1.40.0.tar.gz
StartedAt: 2025-02-18 03:40:04 -0500 (Tue, 18 Feb 2025)
EndedAt: 2025-02-18 03:52:16 -0500 (Tue, 18 Feb 2025)
EllapsedTime: 732.2 seconds
RetCode: 0
Status: OK
CheckDir: GenomicInteractions.Rcheck
Warnings: 0