Package: GenomicInteractions
Version: 1.39.0
Command: chmod a+r GenomicInteractions -R && F:\biocbuild\bbs-3.20-bioc\R\bin\R.exe CMD build --keep-empty-dirs --no-resave-data GenomicInteractions
StartedAt: 2024-06-09 19:13:43 -0400 (Sun, 09 Jun 2024)
EndedAt: 2024-06-09 19:18:02 -0400 (Sun, 09 Jun 2024)
EllapsedTime: 258.7 seconds
RetCode: 0
Status: OK
PackageFile: GenomicInteractions_1.39.0.tar.gz
PackageFileSize: 3.283 <A href="http://en.wikipedia.org/wiki/MiB" target="_blank">MiB</A>