Package: GenomicOZone Version: 1.20.0 Command: /Library/Frameworks/R.framework/Resources/bin/R CMD build --keep-empty-dirs --no-resave-data GenomicOZone StartedAt: 2025-02-03 19:11:25 -0500 (Mon, 03 Feb 2025) EndedAt: 2025-02-03 19:16:17 -0500 (Mon, 03 Feb 2025) EllapsedTime: 291.4 seconds RetCode: 0 Status: OK PackageFile: GenomicOZone_1.20.0.tar.gz PackageFileSize: 1.275 MiB