Package: GenomicOZone Version: 1.20.0 Command: chmod a+r GenomicOZone -R && F:\biocbuild\bbs-3.20-bioc\R\bin\R.exe CMD build --keep-empty-dirs --no-resave-data GenomicOZone StartedAt: 2025-02-17 19:10:25 -0500 (Mon, 17 Feb 2025) EndedAt: 2025-02-17 19:13:10 -0500 (Mon, 17 Feb 2025) EllapsedTime: 164.7 seconds RetCode: 0 Status: OK PackageFile: GenomicOZone_1.20.0.tar.gz PackageFileSize: 1.271 <A href="http://en.wikipedia.org/wiki/MiB" target="_blank">MiB</A>