Package: GenomicOZone Version: 1.20.0 Command: /home/biocbuild/R/R/bin/R CMD check --install=check:GenomicOZone.install-out.txt --library=/home/biocbuild/R/R/site-library --no-vignettes --timings GenomicOZone_1.20.0.tar.gz StartedAt: 2025-02-04 07:19:17 -0000 (Tue, 04 Feb 2025) EndedAt: 2025-02-04 07:26:00 -0000 (Tue, 04 Feb 2025) EllapsedTime: 402.2 seconds RetCode: 0 Status: OK CheckDir: GenomicOZone.Rcheck Warnings: 0