Package: GenomicPlot
Version: 1.4.0
Command: /Library/Frameworks/R.framework/Resources/bin/R CMD check --install=check:GenomicPlot.install-out.txt --library=/Library/Frameworks/R.framework/Resources/library --no-vignettes --timings GenomicPlot_1.4.0.tar.gz
StartedAt: 2024-11-09 03:18:56 -0500 (Sat, 09 Nov 2024)
EndedAt: 2024-11-09 03:25:51 -0500 (Sat, 09 Nov 2024)
EllapsedTime: 414.1 seconds
RetCode: 0
Status: OK
CheckDir: GenomicPlot.Rcheck
Warnings: 0