Package: GenomicPlot Version: 1.4.0 Command: /home/biocbuild/bbs-3.20-bioc/R/bin/R CMD build --keep-empty-dirs --no-resave-data --md5 GenomicPlot StartedAt: 2025-02-03 17:33:59 -0500 (Mon, 03 Feb 2025) EndedAt: 2025-02-03 17:36:30 -0500 (Mon, 03 Feb 2025) EllapsedTime: 151.2 seconds RetCode: 0 Status: OK PackageFile: GenomicPlot_1.4.0.tar.gz PackageFileSize: 3.756 MiB