Package: GenomicPlot Version: 1.4.0 Command: /home/biocbuild/bbs-3.20-bioc/R/bin/R CMD check --install=check:GenomicPlot.install-out.txt --library=/home/biocbuild/bbs-3.20-bioc/R/site-library --timings GenomicPlot_1.4.0.tar.gz StartedAt: 2025-02-03 22:41:22 -0500 (Mon, 03 Feb 2025) EndedAt: 2025-02-03 22:52:40 -0500 (Mon, 03 Feb 2025) EllapsedTime: 677.8 seconds RetCode: 0 Status: OK CheckDir: GenomicPlot.Rcheck Warnings: 0