Package: GenomicRanges Version: 1.58.0 Command: /home/biocbuild/bbs-3.20-bioc/R/bin/R CMD build --keep-empty-dirs --no-resave-data --md5 GenomicRanges StartedAt: 2025-02-03 17:33:59 -0500 (Mon, 03 Feb 2025) EndedAt: 2025-02-03 17:36:45 -0500 (Mon, 03 Feb 2025) EllapsedTime: 166.2 seconds RetCode: 0 Status: OK PackageFile: GenomicRanges_1.58.0.tar.gz PackageFileSize: 1.312 MiB