Package: GenomicRanges
Version: 1.58.0
Command: /home/biocbuild/R/R/bin/R CMD build --keep-empty-dirs --no-resave-data GenomicRanges
StartedAt: 2025-02-17 23:52:02 -0000 (Mon, 17 Feb 2025)
EndedAt: 2025-02-17 23:55:22 -0000 (Mon, 17 Feb 2025)
EllapsedTime: 200.1 seconds
RetCode: 0
Status: OK
PackageFile: GenomicRanges_1.58.0.tar.gz
PackageFileSize: 1.303 <A href="http://en.wikipedia.org/wiki/MiB" target="_blank">MiB</A>