Package: GenomicSuperSignature Version: 1.14.0 Command: /Library/Frameworks/R.framework/Resources/bin/R CMD INSTALL GenomicSuperSignature StartedAt: 2025-02-03 16:45:00 -0500 (Mon, 03 Feb 2025) EndedAt: 2025-02-03 16:46:06 -0500 (Mon, 03 Feb 2025) EllapsedTime: 65.2 seconds RetCode: 0 Status: OK