Package: GenomicSuperSignature Version: 1.14.0 Command: /home/biocbuild/bbs-3.20-bioc/R/bin/R CMD build --keep-empty-dirs --no-resave-data --md5 GenomicSuperSignature StartedAt: 2025-02-03 17:34:15 -0500 (Mon, 03 Feb 2025) EndedAt: 2025-02-03 17:36:27 -0500 (Mon, 03 Feb 2025) EllapsedTime: 132.1 seconds RetCode: 0 Status: OK PackageFile: GenomicSuperSignature_1.14.0.tar.gz PackageFileSize: 6.297 MiB