Package: GenomicSuperSignature Version: 1.14.0 Command: /home/biocbuild/bbs-3.20-bioc/R/bin/R CMD check --install=check:GenomicSuperSignature.install-out.txt --library=/home/biocbuild/bbs-3.20-bioc/R/site-library --timings GenomicSuperSignature_1.14.0.tar.gz StartedAt: 2025-02-03 22:43:23 -0500 (Mon, 03 Feb 2025) EndedAt: 2025-02-03 22:49:06 -0500 (Mon, 03 Feb 2025) EllapsedTime: 343.3 seconds RetCode: 0 Status: WARNINGS CheckDir: GenomicSuperSignature.Rcheck Warnings: 2