Package: GenomicSuperSignature Version: 1.14.0 Command: /home/biocbuild/bbs-3.20-bioc/R/bin/R CMD INSTALL GenomicSuperSignature StartedAt: 2025-02-03 16:06:34 -0500 (Mon, 03 Feb 2025) EndedAt: 2025-02-03 16:07:08 -0500 (Mon, 03 Feb 2025) EllapsedTime: 34.4 seconds RetCode: 0 Status: OK