Package: GenomicSuperSignature Version: 1.14.0 Command: chmod a+r GenomicSuperSignature -R && F:\biocbuild\bbs-3.20-bioc\R\bin\R.exe CMD build --keep-empty-dirs --no-resave-data GenomicSuperSignature StartedAt: 2025-02-03 19:25:20 -0500 (Mon, 03 Feb 2025) EndedAt: 2025-02-03 19:27:22 -0500 (Mon, 03 Feb 2025) EllapsedTime: 121.6 seconds RetCode: 0 Status: OK PackageFile: GenomicSuperSignature_1.14.0.tar.gz PackageFileSize: 5.967 MiB