Package: GenomicSuperSignature Version: 1.14.0 Command: /home/biocbuild/R/R/bin/R CMD build --keep-empty-dirs --no-resave-data GenomicSuperSignature StartedAt: 2025-02-03 23:51:28 -0000 (Mon, 03 Feb 2025) EndedAt: 2025-02-04 00:07:22 -0000 (Tue, 04 Feb 2025) EllapsedTime: 953.4 seconds RetCode: 1 Status: ERROR PackageFile: None PackageFileSize: NA