Package: GenomicSuperSignature Version: 1.14.0 Command: /home/biocbuild/R/R/bin/R CMD INSTALL GenomicSuperSignature StartedAt: 2025-02-03 21:20:54 -0000 (Mon, 03 Feb 2025) EndedAt: 2025-02-03 21:21:31 -0000 (Mon, 03 Feb 2025) EllapsedTime: 36.7 seconds RetCode: 0 Status: OK