Package: GenomicTuples Version: 1.40.0 Command: rm -rf GenomicTuples.buildbin-libdir && mkdir GenomicTuples.buildbin-libdir && /Users/biocbuild/BBS/utils/build-universal.sh GenomicTuples_1.40.0.tar.gz /Library/Frameworks/R.framework/Resources/bin/R GenomicTuples.buildbin-libdir StartedAt: 2025-02-05 16:01:10 -0500 (Wed, 05 Feb 2025) EndedAt: 2025-02-05 16:01:44 -0500 (Wed, 05 Feb 2025) EllapsedTime: 34.1 seconds RetCode: 0 Status: OK PackageFile: GenomicTuples_1.40.0.tgz PackageFileSize: 901.4 KiB