Package: GenomicTuples Version: 1.40.0 Command: /Library/Frameworks/R.framework/Resources/bin/R CMD INSTALL GenomicTuples StartedAt: 2025-02-03 15:26:56 -0500 (Mon, 03 Feb 2025) EndedAt: 2025-02-03 15:27:26 -0500 (Mon, 03 Feb 2025) EllapsedTime: 29.8 seconds RetCode: 0 Status: OK