Package: GenomicTuples Version: 1.40.0 Command: rm -rf GenomicTuples.buildbin-libdir && mkdir GenomicTuples.buildbin-libdir && F:\biocbuild\bbs-3.20-bioc\R\bin\R.exe CMD INSTALL --build --library=GenomicTuples.buildbin-libdir GenomicTuples_1.40.0.tar.gz StartedAt: 2025-02-04 08:35:24 -0500 (Tue, 04 Feb 2025) EndedAt: 2025-02-04 08:36:39 -0500 (Tue, 04 Feb 2025) EllapsedTime: 74.7 seconds RetCode: 0 Status: OK PackageFile: GenomicTuples_1.40.0.zip PackageFileSize: 1.188 MiB