Package: GenomicTuples Version: 1.40.0 Command: chmod a+r GenomicTuples -R && F:\biocbuild\bbs-3.20-bioc\R\bin\R.exe CMD build --keep-empty-dirs --no-resave-data GenomicTuples StartedAt: 2025-02-03 19:25:50 -0500 (Mon, 03 Feb 2025) EndedAt: 2025-02-03 19:27:09 -0500 (Mon, 03 Feb 2025) EllapsedTime: 78.8 seconds RetCode: 0 Status: OK PackageFile: GenomicTuples_1.40.0.tar.gz PackageFileSize: 303.6 KiB