Package: GenomicTuples Version: 1.40.0 Command: /home/biocbuild/R/R/bin/R CMD build --keep-empty-dirs --no-resave-data GenomicTuples StartedAt: 2025-02-03 23:51:57 -0000 (Mon, 03 Feb 2025) EndedAt: 2025-02-03 23:52:48 -0000 (Mon, 03 Feb 2025) EllapsedTime: 51.0 seconds RetCode: 0 Status: OK PackageFile: GenomicTuples_1.40.0.tar.gz PackageFileSize: 327.6 KiB