Package: GenomicTuples Version: 1.40.0 Command: /home/biocbuild/R/R/bin/R CMD INSTALL GenomicTuples StartedAt: 2025-02-03 20:29:45 -0000 (Mon, 03 Feb 2025) EndedAt: 2025-02-03 20:30:23 -0000 (Mon, 03 Feb 2025) EllapsedTime: 38.0 seconds RetCode: 0 Status: OK