Package: GeoDiff Version: 1.12.0 Command: /Library/Frameworks/R.framework/Resources/bin/R CMD build --keep-empty-dirs --no-resave-data GeoDiff StartedAt: 2025-02-04 00:17:13 -0500 (Tue, 04 Feb 2025) EndedAt: 2025-02-04 00:21:32 -0500 (Tue, 04 Feb 2025) EllapsedTime: 258.3 seconds RetCode: 0 Status: OK PackageFile: GeoDiff_1.12.0.tar.gz PackageFileSize: 4.58 MiB