Package: GeoDiff Version: 1.12.0 Command: rm -rf GeoDiff.buildbin-libdir && mkdir GeoDiff.buildbin-libdir && /Users/biocbuild/BBS/utils/build-universal.sh GeoDiff_1.12.0.tar.gz /Library/Frameworks/R.framework/Resources/bin/R GeoDiff.buildbin-libdir StartedAt: 2025-02-04 13:02:20 -0500 (Tue, 04 Feb 2025) EndedAt: 2025-02-04 13:06:21 -0500 (Tue, 04 Feb 2025) EllapsedTime: 240.7 seconds RetCode: 0 Status: OK PackageFile: GeoDiff_1.12.0.tgz PackageFileSize: 4.833 MiB