Package: GeoDiff Version: 1.12.0 Command: /Library/Frameworks/R.framework/Resources/bin/R CMD check --install=check:GeoDiff.install-out.txt --library=/Library/Frameworks/R.framework/Resources/library --no-vignettes --timings GeoDiff_1.12.0.tar.gz StartedAt: 2025-02-04 04:18:46 -0500 (Tue, 04 Feb 2025) EndedAt: 2025-02-04 04:28:58 -0500 (Tue, 04 Feb 2025) EllapsedTime: 611.4 seconds RetCode: 0 Status: OK CheckDir: GeoDiff.Rcheck Warnings: 0