Package: GeoDiff Version: 1.12.0 Command: /Library/Frameworks/R.framework/Resources/bin/R CMD INSTALL GeoDiff StartedAt: 2025-02-03 16:50:48 -0500 (Mon, 03 Feb 2025) EndedAt: 2025-02-03 16:53:12 -0500 (Mon, 03 Feb 2025) EllapsedTime: 143.6 seconds RetCode: 0 Status: OK